Workbook

Sheet Projections
B1: Financial Projections | C1: January 2027 | D1: February 2027 | E1: March 2027 | F1: April 2027 | G1: May 2027 | H1: June 2027 | I1: July 2027 | J1: August 2027 | K1: September 2027 | L1: October 2027 | M1: November 2027 | N1: December 2027 | O1: TOTAL YEAR 1 January 1, 2027–December 31, 2027 | R1: January 2028 | S1: February 2028 | T1: March 2028 | U1: April 2028 | V1: May 2028 | W1: June 2028 | X1: July 2028 | Y1: August 2028 | Z1: September 2028 | AA1: October 2028 | AB1: November 2028 | AC1: December 2028 | AD1: TOTAL YEAR 2 January 1, 2028–December 31, 2028 | AF1: TOTAL YEAR 3 January 1, 2029–December 31, 2029
A2: 1 | B2: Gross Sales or Receipts | C2: 12000 | D2: 14400 | E2: 16800 | F2: 18000 | G2: 19200 | H2: 20400 | I2: 21600 | J2: 22800 | K2: 22800 | L2: 24000 | M2: 24000 | N2: 24000 | O2: =SUM(C2:N2) | P2: =IF(O2>0,O2/O2,"") | Q2: Gross Sales or Receipts | R2: 25000 | S2: 25000 | T2: 25000 | U2: 25000 | V2: 25000 | W2: 25000 | X2: 25000 | Y2: 25000 | Z2: 25000 | AA2: 25000 | AB2: 25000 | AC2: 25000 | AD2: =SUM(R2:AC2) | AE2: =IF(AD2>0,AD2/AD2,"") | AF2: 360000 | AG2: =IF(AF2>0,AF2/AF2,"")
A3: 2 | B3: Less Cost of Goods Sold | C3: 1440 | D3: 1728 | E3: 2016 | F3: 2160 | G3: 2304 | H3: 2448 | I3: 2592 | J3: 2736 | K3: 2736 | L3: 2880 | M3: 2880 | N3: 2880 | O3: =SUM(C3:N3) | P3: =IF(O2>0,O3/O2,"") | Q3: Less Cost of Goods Sold | R3: 3000 | S3: 3000 | T3: 3000 | U3: 3000 | V3: 3000 | W3: 3000 | X3: 3000 | Y3: 3000 | Z3: 3000 | AA3: 3000 | AB3: 3000 | AC3: 3000 | AD3: =SUM(R3:AC3) | AE3: =IF(AD2>0,AD3/AD2,"") | AF3: 43200 | AG3: =IF(AF2>0,AF3/AF2,"")
B4: GROSS PROFIT | C4: =C2-C3 | D4: =D2-D3 | E4: =E2-E3 | F4: =F2-F3 | G4: =G2-G3 | H4: =H2-H3 | I4: =I2-I3 | J4: =J2-J3 | ... O4: =O2-O3 | P4: =IF(O2>0,O4/O2,"") | Q4: GROSS PROFIT | R4: =R2-R3 | S4: =S2-S3 | T4: =T2-T3 | U4: =U2-U3 | V4: =V2-V3 | W4: =W2-W3 | X4: =X2-X3 | Y4: =Y2-Y3 | ... AD4: =AD2-AD3 | AE4: =IF(AD2>0,AD4/AD2,"") | AF4: =AF2-AF3 | AG4: =IF(AF2>0,AF4/AF2,"")
B5: Expenses | D5: 0 | E5: 0 | F5: 0 | Q5: Expenses | S5: 0 | T5: 0 | U5: 0
A6: 3 | B6: Fuel | C6: 400 | D6: 400 | E6: 400 | F6: 400 | G6: 400 | H6: 400 | I6: 400 | J6: 400 | K6: 400 | L6: 400 | M6: 400 | N6: 400 | O6: =SUM(C6:N6) | P6: =IF(O2>0,O6/O2,"") | Q6: Fuel | R6: 412 | S6: 412 | T6: 412 | U6: 412 | V6: 412 | W6: 412 | X6: 412 | Y6: 412 | Z6: 412 | AA6: 412 | AB6: 412 | AC6: 412 | AD6: =SUM(R6:AC6) | AE6: =IF(AD2>0,AD6/AD2,"") | AF6: 5092 | AG6: =IF(AF2>0,AF6/AF2,"")
A7: 4 | B7: Rent | C7: 1000 | D7: 1000 | E7: 1000 | F7: 1000 | G7: 1000 | H7: 1000 | I7: 1000 | J7: 1000 | K7: 1000 | L7: 1000 | M7: 1000 | N7: 1000 | O7: =SUM(C7:N7) | P7: =IF(O2>0,O7/O2,"") | Q7: Rent | R7: 1030 | S7: 1030 | T7: 1030 | U7: 1030 | V7: 1030 | W7: 1030 | X7: 1030 | Y7: 1030 | Z7: 1030 | AA7: 1030 | AB7: 1030 | AC7: 1030 | AD7: =SUM(R7:AC7) | AE7: =IF(AD2>0,AD7/AD2,"") | AF7: 12731 | AG7: =IF(AF2>0,AF7/AF2,"")
A8: 5 | B8: Utilities | C8: 150 | D8: 150 | E8: 150 | F8: 150 | G8: 150 | H8: 150 | I8: 150 | J8: 150 | K8: 150 | L8: 150 | M8: 150 | N8: 150 | O8: =SUM(C8:N8) | P8: =IF(O2>0,O8/O2,"") | Q8: Utilities | R8: 155 | S8: 155 | T8: 155 | U8: 155 | V8: 155 | W8: 155 | X8: 154 | Y8: 154 | Z8: 154 | AA8: 154 | AB8: 154 | AC8: 154 | AD8: =SUM(R8:AC8) | AE8: =IF(AD2>0,AD8/AD2,"") | AF8: 1910 | AG8: =IF(AF2>0,AF8/AF2,"")
A9: 6 | B9: Insurance | C9: 400 | D9: 400 | E9: 400 | F9: 400 | G9: 400 | H9: 400 | I9: 400 | J9: 400 | K9: 400 | L9: 400 | M9: 400 | N9: 400 | O9: =SUM(C9:N9) | P9: =IF(O2>0,O9/O2,"") | Q9: Insurance | R9: 412 | S9: 412 | T9: 412 | U9: 412 | V9: 412 | W9: 412 | X9: 412 | Y9: 412 | Z9: 412 | AA9: 412 | AB9: 412 | AC9: 412 | AD9: =SUM(R9:AC9) | AE9: =IF(AD2>0,AD9/AD2,"") | AF9: 5092 | AG9: =IF(AF2>0,AF9/AF2,"")
A10: 7 | B10: Taxes and Licensing | C10: 100 | D10: 100 | E10: 100 | F10: 100 | G10: 100 | H10: 100 | I10: 100 | J10: 100 | K10: 100 | L10: 100 | M10: 100 | N10: 100 | O10: =SUM(C10:N10) | P10: =IF(O2>0,O10/O2,"") | Q10: Taxes and Licensing | R10: 103 | S10: 103 | T10: 103 | U10: 103 | V10: 103 | W10: 103 | X10: 103 | Y10: 103 | Z10: 103 | AA10: 103 | AB10: 103 | AC10: 103 | AD10: =SUM(R10:AC10) | AE10: =IF(AD2>0,AD10/AD2,"") | AF10: 1273 | AG10: =IF(AF2>0,AF10/AF2,"")
A11: 8 | B11: Accounting and Legal | C11: 200 | D11: 200 | E11: 200 | F11: 200 | G11: 200 | H11: 200 | I11: 200 | J11: 200 | K11: 200 | L11: 200 | M11: 200 | N11: 200 | O11: =SUM(C11:N11) | P11: =IF(O2>0,O11/O2,"") | Q11: Accounting and Legal | R11: 206 | S11: 206 | T11: 206 | U11: 206 | V11: 206 | W11: 206 | X11: 206 | Y11: 206 | Z11: 206 | AA11: 206 | AB11: 206 | AC11: 206 | AD11: =SUM(R11:AC11) | AE11: =IF(AD2>0,AD11/AD2,"") | AF11: 2546 | AG11: =IF(AF2>0,AF11/AF2,"")
A12: 9 | B12: Repairs/maintenance & materials | C12: 150 | D12: 150 | E12: 150 | F12: 150 | G12: 150 | H12: 150 | I12: 150 | J12: 150 | K12: 150 | L12: 150 | M12: 150 | N12: 150 | O12: =SUM(C12:N12) | P12: =IF(O2>0,O12/O2,"") | Q12: Repairs/maintenance & materials | R12: 155 | S12: 155 | T12: 155 | U12: 155 | V12: 155 | W12: 155 | X12: 154 | Y12: 154 | Z12: 154 | AA12: 154 | AB12: 154 | AC12: 154 | AD12: =SUM(R12:AC12) | AE12: =IF(AD2>0,AD12/AD2,"") | AF12: 1910 | AG12: =IF(AF2>0,AF12/AF2,"")
A13: 10 | B13: Telephone, internet, fax | C13: 150 | D13: 150 | E13: 150 | F13: 150 | G13: 150 | H13: 150 | I13: 150 | J13: 150 | K13: 150 | L13: 150 | M13: 150 | N13: 150 | O13: =SUM(C13:N13) | P13: =IF(O2>0,O13/O2,"") | Q13: Telephone, internet, fax | R13: 155 | S13: 155 | T13: 155 | U13: 155 | V13: 155 | W13: 155 | X13: 154 | Y13: 154 | Z13: 154 | AA13: 154 | AB13: 154 | AC13: 154 | AD13: =SUM(R13:AC13) | AE13: =IF(AD2>0,AD13/AD2,"") | AF13: 1910 | AG13: =IF(AF2>0,AF13/AF2,"")
A14: 11 | B14: Permits/ Registration | C14: 0 | D14: 0 | E14: 0 | F14: 0 | G14: 0 | H14: 0 | I14: 0 | J14: 0 | K14: 0 | L14: 0 | M14: 0 | N14: 0 | O14: =SUM(C14:N14) | P14: =IF(O2>0,O14/O2,"") | Q14: Permits/ Registration | R14: 0 | S14: 0 | T14: 0 | U14: 0 | V14: 0 | W14: 0 | X14: 0 | Y14: 0 | Z14: 0 | AA14: 0 | AB14: 0 | AC14: 0 | AD14: =SUM(R14:AC14) | AE14: =IF(AD2>0,AD14/AD2,"") | AF14: 0 | AG14: =IF(AF2>0,AF14/AF2,"")
A15: 12 | B15: Officers Salaries | C15: 3000 | D15: 3000 | E15: 3000 | F15: 3000 | G15: 3000 | H15: 3000 | I15: 3000 | J15: 3000 | K15: 3000 | L15: 3000 | M15: 3000 | N15: 3000 | O15: =SUM(C15:N15) | P15: =IF(O2>0,O15/O2,"") | Q15: Officers Salaries | R15: 3090 | S15: 3090 | T15: 3090 | U15: 3090 | V15: 3090 | W15: 3090 | X15: 3090 | Y15: 3090 | Z15: 3090 | AA15: 3090 | AB15: 3090 | AC15: 3090 | AD15: =SUM(R15:AC15) | AE15: =IF(AD2>0,AD15/AD2,"") | AF15: 38196 | AG15: =IF(AF2>0,AF15/AF2,"")
A16: 12 | B16: Wages | C16: 3900 | D16: 3900 | E16: 3900 | F16: 3900 | G16: 3900 | H16: 3900 | I16: 3900 | J16: 3900 | K16: 3900 | L16: 3900 | M16: 3900 | N16: 3900 | O16: =SUM(C16:N16) | P16: =IF(O2>0,O16/O2,"") | Q16: Wages | R16: 6877 | S16: 6877 | T16: 6877 | U16: 6877 | V16: 6877 | W16: 6877 | X16: 6877 | Y16: 6877 | Z16: 6877 | AA16: 6877 | AB16: 6877 | AC16: 6877 | AD16: =SUM(R16:AC16) | AE16: =IF(AD2>0,AD16/AD2,"") | AF16: 85008 | AG16: =IF(AF2>0,AF16/AF2,"")
A17: 13 | B17: Supplies | C17: 0 | D17: 0 | E17: 0 | F17: 0 | G17: 0 | H17: 0 | I17: 0 | J17: 0 | K17: 0 | L17: 0 | M17: 0 | N17: 0 | O17: =SUM(C17:N17) | P17: =IF(O2>0,O17/O2,"") | Q17: Supplies | R17: 0 | S17: 0 | T17: 0 | U17: 0 | V17: 0 | W17: 0 | X17: 0 | Y17: 0 | Z17: 0 | AA17: 0 | AB17: 0 | AC17: 0 | AD17: =SUM(R17:AC17) | AE17: =IF(AD2>0,AD17/AD2,"") | AF17: 0 | AG17: =IF(AF2>0,AF17/AF2,"")
A18: 14 | B18: Interest Expense | C18: 750 | D18: 746 | E18: 742 | F18: 738 | G18: 734 | H18: 730 | I18: 726 | J18: 722 | K18: 718 | L18: 714 | M18: 710 | N18: 706 | O18: =SUM(C18:N18) | P18: =IF(O2>0,O18/O2,"") | Q18: Interest Expense | R18: 702 | S18: 697 | T18: 693 | U18: 689 | V18: 684 | W18: 680 | X18: 676 | Y18: 671 | Z18: 667 | AA18: 662 | AB18: 658 | AC18: 653 | AD18: =SUM(R18:AC18) | AE18: =IF(AD2>0,AD18/AD2,"") | AF18: 7465 | AG18: =IF(AF2>0,AF18/AF2,"")
A19: 15 | B19: Employee Benefits | C19: 885 | D19: 885 | E19: 885 | F19: 885 | G19: 885 | H19: 885 | I19: 885 | J19: 885 | K19: 885 | L19: 885 | M19: 885 | N19: 885 | O19: =SUM(C19:N19) | P19: =IF(O2>0,O19/O2,"") | Q19: Employee Benefits | R19: 1341 | S19: 1341 | T19: 1341 | U19: 1341 | V19: 1341 | W19: 1341 | X19: 1341 | Y19: 1341 | Z19: 1341 | AA19: 1341 | AB19: 1341 | AC19: 1341 | AD19: =SUM(R19:AC19) | AE19: =IF(AD2>0,AD19/AD2,"") | AF19: 16572 | AG19: =IF(AF2>0,AF19/AF2,"")
A20: 16 | B20: Other | C20: 300 | D20: 300 | E20: 300 | F20: 300 | G20: 300 | H20: 300 | I20: 300 | J20: 300 | K20: 300 | L20: 300 | M20: 300 | N20: 300 | O20: =SUM(C20:N20) | P20: =IF(O2>0,O20/O2,"") | Q20: Other | R20: 309 | S20: 309 | T20: 309 | U20: 309 | V20: 309 | W20: 309 | X20: 309 | Y20: 309 | Z20: 309 | AA20: 309 | AB20: 309 | AC20: 309 | AD20: =SUM(R20:AC20) | AE20: =IF(AD2>0,AD20/AD2,"") | AF20: 3819 | AG20: =IF(AF2>0,AF20/AF2,"")
B21: Total Expenses | C21: =SUM(C6:C20) | D21: =SUM(D6:D20) | E21: =SUM(E6:E20) | F21: =SUM(F6:F20) | G21: =SUM(G6:G20) | H21: =SUM(H6:H20) | I21: =SUM(I6:I20) | J21: =SUM(J6:J20) | ... O21: =SUM(O6:O20) | P21: =IF(O2>0,O21/O2,"") | Q21: Total Expenses | R21: =SUM(R6:R20) | S21: =SUM(S6:S20) | T21: =SUM(T6:T20) | U21: =SUM(U6:U20) | V21: =SUM(V6:V20) | W21: =SUM(W6:W20) | X21: =SUM(X6:X20) | Y21: =SUM(Y6:Y20) | ... AD21: =SUM(AD6:AD20) | AE21: =IF(AD2>0,AD21/AD2,"") | AF21: =SUM(AF6:AF20) | AG21: =IF(AF2>0,AF21/AF2,"")
B22: NET INCOME | C22: =C4-C21 | D22: =D4-D21 | E22: =E4-E21 | F22: =F4-F21 | G22: =G4-G21 | H22: =H4-H21 | I22: =I4-I21 | J22: =J4-J21 | ... O22: =O4-O21 | P22: =IF(O2>0,O22/O2,"") | Q22: NET INCOME | R22: =R4-R21 | S22: =S4-S21 | T22: =T4-T21 | U22: =U4-U21 | V22: =V4-V21 | W22: =W4-W21 | X22: =X4-X21 | Y22: =Y4-Y21 | ... AD22: =AD4-AD21 | AE22: =IF(AD2>0,AD22/AD2,"") | AF22: =AF4-AF21 | AG22: =IF(AF2>0,AF22/AF2,"")
A23: 17 | B23: Owner's Withdrawals | C23: 0 | D23: 0 | E23: 0 | F23: 0 | G23: 0 | H23: 0 | I23: 0 | J23: 0 | K23: 0 | L23: 0 | M23: 0 | N23: 0 | O23: =SUM(C23:N23) | P23: =IF(O2>0,O23/O2,"") | Q23: Owner's Withdrawals | R23: 0 | S23: 0 | T23: 0 | U23: 0 | V23: 0 | W23: 0 | X23: 0 | Y23: 0 | Z23: 0 | AA23: 0 | AB23: 0 | AC23: 0 | AD23: =SUM(R23:AC23) | AE23: =IF(AD2>0,AD23/AD2,"") | AF23: 0 | AG23: =IF(AF2>0,AF23/AF2,"")
B24: CASH AFTER OWNER WITHDRAWALS | C24: =C22-C23 | D24: =D22-D23 | E24: =E22-E23 | F24: =F22-F23 | G24: =G22-G23 | H24: =H22-H23 | I24: =I22-I23 | J24: =J22-J23 | ... O24: =O22-O23 | P24: =IF(O2>0,O24/O2,"") | Q24: CASH AFTER OWNER WITHDRAWALS | R24: =R22-R23 | S24: =S22-S23 | T24: =T22-T23 | U24: =U22-U23 | V24: =V22-V23 | W24: =W22-W23 | X24: =X22-X23 | Y24: =Y22-Y23 | ... AD24: =AD22-AD23 | AE24: =IF(AD2>0,AD24/AD2,"") | AF24: =AF22-AF23 | AG24: =IF(AF2>0,AF24/AF2,"")

Sheet Assumptions Guide
A1: Projection Assumptions Guide and Questionnaire
B3: Projection assumptions are required to justify the projected income and expenses. This is a forecast of what your business will do in the future and why.
B5: Below are some ideas/questions to assist in your written assumptions. This is a guide to help you be more specific in justifying your projections to the SBA. Some questions may not be relevant or applicable, so indicate N/A for those questions. Please answer the questions with as much detail as you can because it will avoid delays in obtaining your SBA Authorization.
A7: 1 | B7: What are the sources used in the projections?
B8: o Historical financials?
B9: o Online Investigation?
B10: o Feasibility Study?
B11: o Franchise Disclosure?
B12: o Experience in the industry?
B13: FICTIONAL SAMPLE. This packet demonstrates the application's standard document formats using invented planning assumptions. It does not describe a real borrower, completed human review, lender offer, or credit approval. No supplier quote, signed contract, market research, or supporting record is represented as having been obtained.
A15: 2 | B15: How was revenue determined?
B16: Revenue: Year 1 $240,000, Year 2 $300,000, Year 3 $360,000. Basis: Fictional average account equivalents of 20, 25, and 30, multiplied by $1,000 per month and 12 months. No contracts or demand have been verified. Illustrative sales equal average recurring-account equivalents times $1,000 per month. Year 1 averages 20 equivalents with a gradual ramp, Year 2 averages 25, and Year 3 averages 30. Periodic cleaning is included in the average account value, not added again.
A18: 3 | B18: How do historical revenues support projections? Are they in line with what historical shows? SBA will also delay the loan if the projections are much higher without justification as to why.
B19: FICTIONAL SAMPLE. This packet demonstrates the application's standard document formats using invented planning assumptions. It does not describe a real borrower, completed human review, lender offer, or credit approval. No supplier quote, signed contract, market research, or supporting record is represented as having been obtained. Revenue grows 25% in Year 2 and 20% in Year 3 through additional assumed accounts. The conditional crew lead adds capacity beginning Month 13. An average account is assumed to require three weekly service hours, so the owner covers the first-year peak alongside the cleaners.
A21: 4 | B21: New industry: How long will it take before the business is operating at capacity? Will the client need an interest-only period until established?
B22: The scenario assumes a January 2027 launch after equipment purchases and setup. Revenue uses the compiler's gradual Year 1 ramp. The owner performs some field work while two part-time cleaners establish a repeatable schedule. These milestones are hypothetical. Year 1 revenue averages the equivalent of 20 accounts at $1,000 per month and ramps from 12 to 24 account equivalents. Years 2 and 3 assume averages of 25 and 30 accounts. A conditional crew lead begins in Month 13 if retained work supports the added cost. Revenue grows 25% in Year 2 and 20% in Year 3 through additional assumed accounts. The conditional crew lead adds capacity beginning Month 13. An average account is assumed to require three weekly service hours, so the owner covers the first-year peak alongside the cleaners. Projection start date: 2027-01-01 Expected funding date: 2026-12-15
A24: 5 | B24: Franchise: What are the assumptions in the Franchise Disclosure? Is the franchise well known, well established? Or is the franchise a new emerging business?
B25: N/A — not a franchise.
A27: 6 | B27: Describe your business model and how it will make revenue. What are the criteria for your sales? Sample questions per industry:
B28: o Restaurant: What is the average ticket price per order? What is the business mix – carry-out vs. in-house dining? How many tables? How many clients are served? Hours of operation?
B29: o Carwash: how many cars are serviced in an hour/in a day/in a month? What is the average price per wash? Is this a self-serve facility? Hours of operation?
B30: o Preschool: How many students and what is the tuition?
B31: o Medical practice (includes physician, dentist, chiropractor, etc.): How many patients are seen in a day/month? Will the practice be dependent on insurance and Medicare/Medicaid for reimbursement?
B32: o Gym, mini-storage, etc. – How long will it take for the business to ramp up or build clientele?
B33: Recurring office cleaning, restroom cleaning, floor care, and periodic detailed cleaning. The fictional mix assumes an average $1,000 monthly account value; this is an illustrative price, not a market quote. Illustrative sales equal average recurring-account equivalents times $1,000 per month. Year 1 averages 20 equivalents with a gradual ramp, Year 2 averages 25, and Year 3 averages 30. Periodic cleaning is included in the average account value, not added again.
A35: 7 | B35: What will the applicant do for working capital during the waiting or ramp-up period?
B36: The illustrative $60,000 opening reserve covers early payroll, supplies, and operating costs while customer invoices are collected. Customers are assumed to pay monthly. The reserve is a financing use, not additional sales or profit.
A38: 8 | B38: Reason for revenue growth: Is there a new product line, sales channels, new marketing strategies or production facilities?
B39: Revenue grows 25% in Year 2 and 20% in Year 3 through additional assumed accounts. The conditional crew lead adds capacity beginning Month 13. An average account is assumed to require three weekly service hours, so the owner covers the first-year peak alongside the cleaners.
A41: 9 | B41: Are there any contracts or letters of intent in place for sale of products or services? If so, please provide copies and discuss below.
B42: This demonstration contains no researched market evidence. The account counts, prices, conversion assumptions, and competitor categories are invented inputs. A real borrower would need to collect and assess customer demand and local pricing evidence.
A44: 10 | B44: Where is the business location? Is it in a high traffic area that would allow for sales goals to be achieved?
B45: The scenario assumes a leased storage and dispatch base in Boise, Idaho, with services performed at customer offices. No actual premises or lease have been selected.
A47: 11 | B47: Who is the target market? What are the relevant demographics?
B48: The hypothetical target is small offices and property managers within a compact Boise service area. The sample assumes buyers value consistent schedules, clear task lists, and a single contact for service concerns.
A50: 12 | B50: Discuss competitors – is the competition heavy? What strategies are in place to beat out the competition? Why will your product or service sell over the competition? What is your niche in the marketplace?
B51: The scenario compares hypothetical competitor categories only: local independent cleaning firms, regional franchises, and in-house staff. It makes no claims about any identifiable business or actual market share. This demonstration contains no researched market evidence. The account counts, prices, conversion assumptions, and competitor categories are invented inputs. A real borrower would need to collect and assess customer demand and local pricing evidence.
A53: Cost of Goods Sold
B54: What makes up the COGS? Who are your vendors? Do you have any contracts in place for goods purchased?
B55: COGS: Year 1 $28,800, Year 2 $36,000, Year 3 $43,200. Basis: Fictional supplies and consumables equal 12% of sales. Employee and owner compensation appear separately in operating expenses. Direct costs are an illustrative 12% of sales for cleaning chemicals and consumables. Staff pay and payroll burdens are excluded from this line and appear separately in the staffing schedule. The gross margin shown is therefore before employee labor. For this simplified scenario, consumable costs follow sales and customer invoices are collected monthly. Opening reserves cover timing differences. This income projection is not a complete balance sheet or monthly working-capital model.
...

Sheet Explanation
B2: Projection assumptions compiled from verified Interview V2 fields for human review.
B4: FICTIONAL SAMPLE. This packet demonstrates the application's standard document formats using invented planning assumptions. It does not describe a real borrower, completed human review, lender offer, or credit approval. No supplier quote, signed contract, market research, or supporting record is represented as having been obtained.
B5: Projection period: Year 1 · January 1, 2027–December 31, 2027. The first monthly bucket begins exactly on January 1, 2027; expected funding date is 2026-12-15.
B6: Revenue: Year 1 $240,000, Year 2 $300,000, and Year 3 $360,000. Basis: Fictional average account equivalents of 20, 25, and 30, multiplied by $1,000 per month and 12 months. No contracts or demand have been verified.
B7: Year 1 revenue and COGS use the selected gradual ramp (5%, 6%, 7%, 7.5%, 8%, 8.5%, 9%, 9.5%, 9.5%, 10%, 10%, and 10%); Year 2 is allocated evenly.
B8: COGS/direct costs: Year 1 $28,800, Year 2 $36,000, and Year 3 $43,200. Basis: Fictional supplies and consumables equal 12% of sales. Employee and owner compensation appear separately in operating expenses.
B9: Operating expense schedule: Storage and dispatch base ($12,000, $12,360, $12,731); Service vehicle fuel ($4,800, $4,944, $5,092); Utilities at service base ($1,800, $1,854, $1,910); Liability and vehicle coverage ($4,800, $4,944, $5,092); Business licenses and other business taxes ($1,200, $1,236, $1,273); Bookkeeping and professional services ($2,400, $2,472, $2,546); Vehicle and equipment maintenance ($1,800, $1,854, $1,910); Phone internet and scheduling tools ($1,800, $1,854, $1,910); Website and sales outreach budget ($3,600, $3,708, $3,819); No additional owner withdrawals assumed ($0, $0, $0).
B10: Staffing and payroll schedule: Owner manager (1 owner/officer, Month 1 estimated; gross pay $36,000, $37,080, and $38,196; payroll tax/benefit burden $3,600, $3,708, and $3,816); Part time cleaners (2 employees, Month 1 estimated; gross pay $46,800, $48,204, and $49,656; payroll tax/benefit burden $7,020, $7,236, and $7,452); Conditional crew lead (1 employee, Month 13 estimated, conditional; gross pay $0, $34,320, and $35,352; payroll tax/benefit burden $0, $5,148, and $5,304). Hiring conditions: Two cleaners each work 25 hours weekly from Month 1 at $18 per hour. The owner receives $36,000 annually and covers management plus up to 25 weekly field hours during the first-year ramp. A conditional crew lead starts Month 13 at $22 per hour for 30 weekly hours. Annual pay increases are 3% from each role's anniversary. Payroll burdens are illustrative allowances, not statutory tax rates
B11: Debt-service assumption: Borrower estimate—final lender terms pending: $100,000 principal at 9% for 10 years, with a calculated $1,267 monthly payment beginning 2027-01-15. Year 1 interest expense, principal paid, and cash debt service are $8,736, $6,468, and $15,204.
B12: Projection source statement: FICTIONAL SAMPLE. This packet demonstrates the application's standard document formats using invented planning assumptions. It does not describe a real borrower, completed human review, lender offer, or credit approval. No supplier quote, signed contract, market research, or supporting record is represented as having been obtained.
B14: Compiler warnings / reviewer notes:
B15: Warning: One or more staffing start months are borrower estimates. LoanLens used the entered month and labels the timing as estimated.
... B19: Warning: A monthly loan payment was not provided. LoanLens calculated it deterministically from the entered loan amount, rate, term, and interest-only period.

Sheet Checks
A1: Projection Model Checks
A3: Check | B3: Expected | C3: Actual | D3: Difference | E3: Tolerance | F3: Status
A4: Year 1 cash after owner withdrawals | B4: ='Projections'!O4-'Projections'!O21-'Projections'!O23 -> 0 | C4: ='Projections'!O24 -> 0 | D4: =C4-B4 -> 0 | E4: 0.01 | F4: =IF(ABS(D4)<=E4,"RECONCILED","MISMATCH") -> RECONCILED
A5: Year 2 cash after owner withdrawals | B5: ='Projections'!AD4-'Projections'!AD21-'Projections'!AD23 -> 0 | C5: ='Projections'!AD24 -> 0 | D5: =C5-B5 -> 0 | E5: 0.01 | F5: =IF(ABS(D5)<=E5,"RECONCILED","MISMATCH") -> RECONCILED
A6: Year 3 cash after owner withdrawals | B6: ='Projections'!AF4-'Projections'!AF21-'Projections'!AF23 -> 0 | C6: ='Projections'!AF24 -> 0 | D6: =C6-B6 -> 0 | E6: 0.01 | F6: =IF(ABS(D6)<=E6,"RECONCILED","MISMATCH") -> RECONCILED
A7: Year 1 sales rollup | B7: =SUM('Projections'!C2:N2) -> 0 | C7: ='Projections'!O2 -> 0 | D7: =C7-B7 -> 0 | E7: 0.01 | F7: =IF(ABS(D7)<=E7,"RECONCILED","MISMATCH") -> RECONCILED
A8: Year 1 COGS rollup | B8: =SUM('Projections'!C3:N3) -> 0 | C8: ='Projections'!O3 -> 0 | D8: =C8-B8 -> 0 | E8: 0.01 | F8: =IF(ABS(D8)<=E8,"RECONCILED","MISMATCH") -> RECONCILED
A9: Year 2 sales rollup | B9: =SUM('Projections'!R2:AC2) -> 0 | C9: ='Projections'!AD2 -> 0 | D9: =C9-B9 -> 0 | E9: 0.01 | F9: =IF(ABS(D9)<=E9,"RECONCILED","MISMATCH") -> RECONCILED
A10: Year 2 COGS rollup | B10: =SUM('Projections'!R3:AC3) -> 0 | C10: ='Projections'!AD3 -> 0 | D10: =C10-B10 -> 0 | E10: 0.01 | F10: =IF(ABS(D10)<=E10,"RECONCILED","MISMATCH") -> RECONCILED
A12: WORKBOOK ARITHMETIC RECONCILIATION | F12: =IF(COUNTIF(F4:F10,"MISMATCH")=0,"RECONCILED","MISMATCH") -> RECONCILED
A14: OPERATING EXPENSE SCHEDULE RECONCILIATION | F14: V2 VERIFIED
A16: NARRATIVE HUMAN REVIEW | F16: HUMAN REVIEW
A18: FINANCIAL VIABILITY REVIEW (SEPARATE FROM ARITHMETIC) | F18: NO WARNING IDENTIFIED
A20: No deterministic financial-health warning was identified. This is not a credit decision; assumptions and repayment capacity still require human review.

Sheet Cash Flow & Debt Service
A1: Cash Flow & Debt Service
A3: Financial health status | B3: NO WARNING IDENTIFIED
A4: Arithmetic reconciliation and financial viability are separate. This view highlights projected profitability, debt-service coverage, and cash pressure for human review.
A5: Cash-runway scope: Cash runway begins at the projection start with entered working capital net of proposed-loan payments scheduled before that date; other pre-period operating cash flows are outside the model.
A6: Annual summary
A7: Metric | B7: Year 1 | C7: Year 2 | D7: Year 3
A8: Revenue | B8: 240000 | C8: 300000 | D8: 360000
A9: Interest expense (net income) | B9: 8736 | C9: 8132 | D9: 7465
A10: Capitalized interest | B10: 0 | C10: 0 | D10: 0
A11: Net income | B11: 74844 | C11: 84946 | D11: 133276
A12: Cash available for debt service | B12: 83580 | C12: 93078 | D12: 140741
A13: Cash interest (debt service) | B13: 8736 | C13: 8132 | D13: 7465
A14: Total debt service | B14: 15204 | C14: 15204 | D14: 15204
A15: Cash after debt service | B15: 68376 | C15: 77874 | D15: 125537
A16: DSCR | B16: 5.50x | C16: 6.12x | D16: 9.26x
A17: Working capital | B17: 60000 | C17: Opening cash | D17: 60000 | E17: Funding timing | F17: 2026-12-15
A18: Minimum cash | B18: 58658 | C18: Break-even revenue | D18: 162300
A19: Pre-projection debt service | B19: 0
A20: Proposed-loan repayment assumptions
A21: Principal | B21: 100000 | C21: Monthly payment | D21: 1267 | E21: Payment source | F21: calculated
A22: First payment | B22: 2027-01-15 | C22: Maturity | D22: 2036-12-15 | E22: Term / rate / IO | F22: 10 years at 9%
A23: Deferral months | B23: 0 | C23: Capitalized interest | D23: 0 | E23: First-pmt. balance | F23: 100000
A25: Warnings and reviewer notes
A26: No deterministic financial-health warning was identified. This is not a credit decision; assumptions and repayment capacity still require human review.
A29: Monthly cash-flow detail
A30: Period | B30: Revenue | C30: Cash available for debt service | D30: Total debt service | E30: Funding inflow | F30: Cash after debt service | G30: Cumulative cash
A31: January 2027 | B31: 12000 | C31: -75 | D31: 1267 | E31: 0 | F31: -1342 | G31: 58658
A32: February 2027 | B32: 14400 | C32: 2037 | D32: 1267 | E32: 0 | F32: 770 | G32: 59428
A33: March 2027 | B33: 16800 | C33: 4149 | D33: 1267 | E33: 0 | F33: 2882 | G33: 62310
A34: April 2027 | B34: 18000 | C34: 5205 | D34: 1267 | E34: 0 | F34: 3938 | G34: 66248
A35: May 2027 | B35: 19200 | C35: 6261 | D35: 1267 | E35: 0 | F35: 4994 | G35: 71242
A36: June 2027 | B36: 20400 | C36: 7317 | D36: 1267 | E36: 0 | F36: 6050 | G36: 77292
A37: July 2027 | B37: 21600 | C37: 8373 | D37: 1267 | E37: 0 | F37: 7106 | G37: 84398
A38: August 2027 | B38: 22800 | C38: 9429 | D38: 1267 | E38: 0 | F38: 8162 | G38: 92560
A39: September 2027 | B39: 22800 | C39: 9429 | D39: 1267 | E39: 0 | F39: 8162 | G39: 100722
A40: October 2027 | B40: 24000 | C40: 10485 | D40: 1267 | E40: 0 | F40: 9218 | G40: 109940
A41: November 2027 | B41: 24000 | C41: 10485 | D41: 1267 | E41: 0 | F41: 9218 | G41: 119158
A42: December 2027 | B42: 24000 | C42: 10485 | D42: 1267 | E42: 0 | F42: 9218 | G42: 128376
... A54: December 2028 | B54: 25000 | C54: 7758 | D54: 1267 | E54: 0 | F54: 6491 | G54: 206250
